Workbook
Name _cur1: #REF!
Name _cur2: #REF!
Name _sum1: #REF!
Name _sum2: #REF!
Name ACC_BALACC: #REF!
Name ACC_BALACC: #REF!
Name ACC_BALACC: #REF!
Name ACC_BALACC: #REF!
Name ACC_BALACC: #REF!
Name ACC_BALACC: #REF!
Name ACC_BALACC: #REF!
Name ACC_BALACC: #REF!
Name ACC_BALACC: #REF!
Name ACC_BALACC: #REF!
Name ACC_BALACC: #REF!
Name ACC_BALACC: #REF!
Name ACC_BALACC: #REF!
Name ACC_BALACC: #REF!
Name ACC_BALACC: #REF!
Name ACC_BALACC: #REF!
Name ACC_BALACC: #REF!
Name ACC_BALACC: #REF!
Name ACC_BALACC: #REF!
Name ACC_CRS: #REF!
Name ACC_CRS: #REF!
Name ACC_CRS: #REF!
Name ACC_CRS: #REF!
Name ACC_CRS: #REF!
Name ACC_CRS: #REF!
Name ACC_CRS: #REF!
Name ACC_CRS: #REF!
Name ACC_CRS: #REF!
Name ACC_CRS: #REF!
Name ACC_CRS: #REF!
Name ACC_CRS: #REF!
Name ACC_CRS: #REF!
Name ACC_CRS: #REF!
Name ACC_CRS: #REF!
Name ACC_CRS: #REF!
Name ACC_CRS: #REF!
Name ACC_CRS: #REF!
Name ACC_CRS: #REF!
Name ACC_DBS: #REF!
Name ACC_DBS: #REF!
Name ACC_DBS: #REF!
Name ACC_DBS: #REF!
Name ACC_DBS: #REF!
Name ACC_DBS: #REF!
Name ACC_DBS: #REF!
Name ACC_DBS: #REF!
Name ACC_DBS: #REF!
Name ACC_DBS: #REF!
Name ACC_DBS: #REF!
Name ACC_DBS: #REF!
Name ACC_DBS: #REF!
Name ACC_DBS: #REF!
Name ACC_DBS: #REF!
Name ACC_DBS: #REF!
Name ACC_DBS: #REF!
Name ACC_DBS: #REF!

Sheet Info
B1: Pillar 3 quarterly report
A2: 1 | B2: Name of a bank | C2: Terabank
A3: 2 | B3: Chairman of the Supervisory Board | C3: Sheikh Nahayan Mabarak Al Nahayan
A4: 3 | B4: CEO of a bank | C4: Thea Lortkipanidze
A5: 4 | B5: Bank's web page | C5: https://terabank.ge
A6: Senior management of the bank ensures fair presentation and accuracy of the information provided within Pillar 3 disclosure report. The report is prepared in accordance with internal review and control processes coordinated with the board. The report meets the requirements of the decree N92/04 of the Governor of the National Bank of Georgia on “Disclosure requirements for commercial banks within Pillar 3” and other relevant decrees and regulations of NBG.
A7: Table N | B7: Table of contents
A8: 1 | B8: Key ratios
A9: 2 | B9: Balance Sheet
A10: 3 | B10: Income statement
A11: 4 | B11: Off-balance sheet
A12: 5 | B12: Risk-Weighted Assets (RWA)
A13: 6 | B13: Information about supervisory board, senior management and shareholders
A14: 7 | B14: Linkages between financial statement assets and balance sheet items subject to credit risk weighting
A15: 8 | B15: Differences between carrying values of balance sheet items and exposure amounts subject to credit risk weighting
A16: 9 | B16: Regulatory Capital
A17: 9.1 | B17: Capital Adequacy Requirements
A18: 9.2 | B18: Summary Information on Minimum Requirement for Own Funds and Eligible Liabilities (MREL)
A19: 9.3 | B19: MREL Components Breakdown by Maturity and Governing Law
A20: 10 | B20: Reconciliation of regulatory capital to balance sheet
A21: 11 | B21: Credit risk weighted exposures
A22: 12 | B22: Credit risk mitigation
A23: 13 | B23: Standardized approach - effect of credit risk mitigation
A24: 14 | B24: Liquidity Coverage Ratio
A25: 15 | B25: Counterparty credit risk
A26: 15.1 | B26: Leverage Ratio
A27: 15.2 | B27: Credit Valuation Adjustment
A28: 16 | B28: Net Stable Funding Ratio
A29: 17 | B29: Exposures distributed by residual maturity and Risk Classes
A30: 18 | B30: Assets, ECL and write-offs by risk classes
A31: 19 | B31: Assets, ECL and write-offs by Sectors of income source
... A38: 26 | B38: General and Qualitative information on Retail Products

Sheet 1. key ratios
A1: Bank: | B1: =Info!C2 -> Terabank
A2: Date: | B2: 46295
A4: Table 1 | B4: Key metrics | D4: According to IFRS
A5: N | C5: =INT((MONTH($B$2))/3)&"Q"&"-"&YEAR($B$2) -> 3Q-2026 | D5: =IF(INT(MONTH($B$2))=3, "4"&"Q"&"-"&YEAR($B$2)-1, IF(INT(MONTH($B$2))=6, "1"&"Q"&"-"&YEAR($B$2), IF(INT(MONTH($B$2))=9, "2"&"Q"&"-"&YEAR($B$2),IF(INT(MONTH($B$2))=12, "3"&"Q"&"-"&YEAR($B$2), 0)))) -> 2Q-2026 | E5: =IF(INT(MONTH($B$2))=3, "3"&"Q"&"-"&YEAR($B$2)-1, IF(INT(MONTH($B$2))=6, "4"&"Q"&"-"&YEAR($B$2)-1, IF(INT(MONTH($B$2))=9, "1"&"Q"&"-"&YEAR($B$2),IF(INT(MONTH($B$2))=12, "2"&"Q"&"-"&YEAR($B$2), 0)))) -> 1Q-2026 | F5: =IF(INT(MONTH($B$2))=3, "2"&"Q"&"-"&YEAR($B$2)-1, IF(INT(MONTH($B$2))=6, "3"&"Q"&"-"&YEAR($B$2)-1, IF(INT(MONTH($B$2))=9, "4"&"Q"&"-"&YEAR($B$2)-1,IF(INT(MONTH($B$2))=12, "1"&"Q"&"-"&YEAR($B$2), 0)))) -> 4Q-2025 | G5: =IF(INT(MONTH($B$2))=3, "1"&"Q"&"-"&YEAR($B$2)-1, IF(INT(MONTH($B$2))=6, "2"&"Q"&"-"&YEAR($B$2)-1, IF(INT(MONTH($B$2))=9, "3"&"Q"&"-"&YEAR($B$2)-1,IF(INT(MONTH($B$2))=12, "4"&"Q"&"-"&YEAR($B$2)-1, 0)))) -> 3Q-2025
B6: Regulatory capital (amounts, GEL)
B7: Based on Basel III framework
A8: 1 | B8: CET1 capital | C8: 2.9251473e+08 | D8: 2.8553855e+08 | E8: 2.7934867e+08 | F8: 2.7232226e+08 | G8: 2.5905605e+08
A9: 2 | B9: Tier1 capital | C9: 3.4722183e+08 | D9: 3.4108985e+08 | E9: 3.1444607e+08 | F9: 3.0735856e+08 | G9: 2.9427045e+08
A10: 3 | B10: Regulatory capital | C10: 4.077356e+08 | D10: 4.0419809e+08 | E10: 3.8298532e+08 | F10: 3.7865343e+08 | G10: 3.6574929e+08
A11: 4 | B11: CET1 capital total requirement | C11: 2.3968314e+08 | D11: 2.4601722e+08 | E11: 2.4059055e+08 | F11: 2.3555223e+08 | G11: 2.2994632e+08
A12: 5 | B12: Tier1 capital total requirement | C12: 2.8075241e+08 | D12: 2.8868101e+08 | E12: 2.8257566e+08 | F12: 2.7782274e+08 | G12: 2.7103332e+08
A13: 6 | B13: Regulatory capital total requirement | C13: 3.3524951e+08 | D13: 3.4529021e+08 | E13: 3.3828395e+08 | F13: 3.3390605e+08 | G13: 3.2554074e+08
B14: Total Risk Weighted Assets (amounts, GEL)
A15: 7 | B15: Total Risk Weighted Assets (Total RWA) (Based on Basel III framework) | C15: 1.7426504e+09 | D15: 1.7959877e+09 | E15: 1.7659474e+09 | F15: 1.7640344e+09 | G15: 1.6932089e+09
B16: Capital Adequacy Ratios
B17: Based on Basel III framework *
A18: 8 | B18: CET1 capital | C18: 0.16785623 | D18: 0.15898692 | E18: 0.15818629 | F18: 0.15437469 | G18: 0.15299709
A19: 9 | B19: Tier1 capital | C19: 0.19924927 | D19: 0.1899177 | E19: 0.17806084 | F19: 0.17423615 | G19: 0.17379453
A20: 10 | B20: Regulatory capital | C20: 0.2339744 | D20: 0.22505616 | E20: 0.21687244 | F20: 0.21465195 | G20: 0.21600954
A21: 11 | B21: CET1 capital total requirement | C21: 0.13753943 | D21: 0.13698157 | E21: 0.1362388 | F21: 0.13353041 | G21: 0.13580505
A22: 12 | B22: Tier1 capital total requirement | C22: 0.16110655 | D22: 0.16073663 | E22: 0.16001363 | F22: 0.15749282 | G22: 0.1600708
A23: 13 | B23: Regulatory capital total requirement | C23: 0.19237909 | D23: 0.19225644 | E23: 0.19155947 | F23: 0.18928546 | G23: 0.19226259
B24: Income
A25: 14 | B25: Total Interest Income /Average Annual Assets | C25: 0.10357568 | D25: 0.10212961 | E25: 0.10187992 | F25: 0.10166953 | G25: 0.10102684
A26: 15 | B26: Total Interest Expense / Average Annual Assets | C26: 0.062659537 | D26: 0.061954133 | E26: 0.061744988 | F26: 0.061289352 | G26: 0.06043998
A27: 16 | B27: Earnings from Operations / Average Annual Assets | C27: 0.019546722 | D27: 0.018811519 | E27: 0.018702846 | F27: 0.017185645 | G27: 0.016163535
A28: 17 | B28: Net Interest Margin | C28: 0.040916146 | D28: 0.040175475 | E28: 0.040134931 | F28: 0.04038018 | G28: 0.040586856
A29: 18 | B29: Return on Average Assets (ROAA) | C29: 0.014505941 | D29: 0.013712622 | E29: 0.014434142 | F29: 0.014698856 | G29: 0.014429907
A30: 19 | B30: Return on Average Equity (ROAE) | C30: 0.10095724 | D30: 0.096422858 | E30: 0.10174802 | F30: 0.10525692 | G30: 0.10290834
B31: Asset Quality
A32: 20 | B32: Non Performed Loans / Total Loans | C32: 0.050746982 | D32: 0.055789462 | E32: 0.046673127 | F32: 0.045426855 | G32: 0.049825691
A33: 21 | B33: ECL/Total Loans | C33: 0.023696217 | D33: 0.022159078 | E33: 0.02071264 | F33: 0.020848796 | G33: 0.021193074
A34: 22 | B34: FX Loans/Total Loans | C34: 0.42396058 | D34: 0.43793022 | E34: 0.44315487 | F34: 0.44359966 | G34: 0.44460247
A35: 23 | B35: FX Assets/Total Assets | C35: 0.37468534 | D35: 0.38759752 | E35: 0.40331002 | F35: 0.40691567 | G35: 0.40820957
A36: 24 | B36: Loan Growth-YTD | C36: -0.0042102302 | D36: 0.02302787 | E36: 0.0042211692 | F36: 0.16766442 | G36: 0.14539289
B37: Liquidity
A38: 25 | B38: Liquid Assets/Total Assets | C38: 0.19718607 | D38: 0.15946525 | E38: 0.14108641 | F38: 0.16603985 | G38: 0.13194843
A39: 26 | B39: FX Liabilities/Total Liabilities | C39: 0.41953096 | D39: 0.44794576 | E39: 0.45952788 | F39: 0.45996713 | G39: 0.44613254
A40: 27 | B40: Current & Demand Deposits/Total Assets | C40: 0.29484967 | D40: 0.26815051 | E40: 0.25969058 | F40: 0.24909878 | G40: 0.21593646
B41: Liquidity Coverage Ratio***
...

Sheet 2. SOFP
A1: Bank: | B1: =Info!C2 -> Terabank
A2: Date: | B2: ='1. key ratios'!B2 -> 46295
A4: N | B4: Statement of Financial Position | C4: reporting period | F4: respective period of the previous year
C5: GEL | D5: FX | E5: Total | F5: GEL | G5: FX | H5: Total
B6: ASSETS
A7: 1 | B7: Cash, Cash balances with National Bank of Georgia and other banks | C7: 60631478 | D7: 1.3113047e+08 | E7: 1.9176195e+08 | F7: 77139004 | G7: 1.729998e+08 | H7: 2.501388e+08
A8: 1.1 | B8: Cash on hand | C8: 19369058 | D8: 34482385 | E8: 53851443 | F8: 22154418 | G8: 36622619 | H8: 58777037
A9: 1.2 | B9: Casha balances with National bank of Georgia | C9: 39473178 | D9: 70194748 | E9: 1.0966793e+08 | F9: 54197693 | G9: 1.0586988e+08 | H9: 1.6006757e+08
A10: 1.3 | B10: Cash balances with other banks | C10: 1789242.6 | D10: 26453337 | E10: 28242580 | F10: 786892.85 | G10: 30507303 | H10: 31294195
A11: 2 | B11: Financial assets held for trading | C11: 588123.34 | D11: 0 | E11: 588123.34 | F11: 116081.8 | G11: 0 | H11: 116081.8
A12: 2.1 | B12: of which:derivatives | C12: 588123.34 | D12: 0 | E12: 588123.34 | F12: 116081.8 | G12: 0 | H12: 116081.8
A13: 3 | B13: Non-trading financial assets mandatorily at fair value through profit or loss | C13: 0 | D13: 0 | E13: 0 | F13: 0 | G13: 0 | H13: 0
A14: 4 | B14: Financial assets designated at fair value through profit or loss | C14: 0 | D14: 0 | E14: 0 | F14: 0 | G14: 0 | H14: 0
A15: 5 | B15: Financial assets at fair value through other comprehensive income | C15: 0 | D15: 0 | E15: 0 | F15: 0 | G15: 0 | H15: 0
A16: 5.1 | B16: Equity instruments | C16: 0 | D16: 0 | E16: 0 | F16: 0 | G16: 0 | H16: 0
A17: 5.2 | B17: Debt securities | C17: 0 | D17: 0 | E17: 0 | F17: 0 | G17: 0 | H17: 0
A18: 5.3 | B18: Loans and advances | C18: 0 | D18: 0 | E18: 0 | F18: 0 | G18: 0 | H18: 0
... A36: 14 | B36: TOTAL ASSETS | C36: 1.3944991e+09 | D36: 8.3557669e+08 | E36: 2.2300758e+09 | F36: 1.3038144e+09 | G36: 8.9935471e+08 | H36: 2.2031691e+09
B37: LIABILITIES
A38: 15 | B38: Financial liabilities held for trading | C38: 0 | D38: 0 | E38: 0 | F38: 0 | G38: 0 | H38: 0
A39: 15.1 | B39: of which:derivatives | C39: 0 | D39: 0 | E39: 0 | F39: 0 | G39: 0 | H39: 0
A40: 16 | B40: Financial liabilities designated at fair value through profit or loss | C40: 0 | D40: 0 | E40: 0 | F40: 0 | G40: 0 | H40: 0
A41: 17 | B41: Financial liabilities measured at amortised cost | C41: 1.0942761e+09 | D41: 6.8056838e+08 | E41: 1.7748444e+09 | F41: 1.0503369e+09 | G41: 7.3033189e+08 | H41: 1.7806688e+09
A42: 17.1 | B42: Deposits | C42: 9.3770262e+08 | D42: 5.0542623e+08 | E42: 1.4431289e+09 | F42: 7.5568909e+08 | G42: 5.6799896e+08 | H42: 1.3236881e+09
A43: 17.2 | B43: borrowings | C43: 1.3578843e+08 | D43: 1.4413773e+08 | E43: 2.7992616e+08 | F43: 2.7938041e+08 | G43: 1.5460437e+08 | H43: 4.3398478e+08
A44: 17.3 | B44: Debt securities issued | C44: 0 | D44: 21121861 | E44: 21121861 | F44: 0 | G44: 0 | H44: 0
A45: 17.4 | B45: Other financial liabilities | C45: 20785004 | D45: 9882549.7 | E45: 30667553 | F45: 15267444 | G45: 7728556.7 | H45: 22996001
A46: 18 | B46: Provisions | C46: 431983.4 | D46: 0 | E46: 431983.4 | F46: 359763.72 | G46: 0 | H46: 359763.72
A47: 19 | B47: Tax liabilities | C47: 5161649 | D47: 0 | E47: 5161649 | F47: 3600940 | G47: 0 | H47: 3600940
A48: 19.1 | B48: Current tax liabilities | C48: 0 | D48: 0 | E48: 0 | F48: 0 | G48: 0 | H48: 0
A49: 19.2 | B49: Deferred tax liabilities | C49: 5161649 | D49: 0 | E49: 5161649 | F49: 3600940 | G49: 0 | H49: 3600940
... A53: 22 | B53: TOTAL LIABILITIES | C53: 1.1000783e+09 | D53: 7.950758e+08 | E53: 1.8951541e+09 | F53: 1.0568937e+09 | G53: 8.5131317e+08 | H53: 1.9082068e+09
B54: Equity
A55: 23 | B55: Ordinary share | C55: 128022000 | D55: 0 | E55: 128022000 | F55: 121372000 | G55: 0 | H55: 121372000
A56: 24 | B56: preference share | C56: 0 | D56: 0 | E56: 0 | F56: 0 | G56: 0 | H56: 0
A57: 25 | B57: Share premium | C57: 0 | D57: 0 | E57: 0 | F57: 0 | G57: 0 | H57: 0
A58: 26 | B58: (-) Treasury shares | C58: 0 | D58: 0 | E58: 0 | F58: 0 | G58: 0 | H58: 0
A59: 27 | B59: Equity instruments issued other than capital | C59: 0 | D59: 0 | E59: 0 | F59: 0 | G59: 0 | H59: 0
A60: 27.1 | B60: Equity component of compound financial instruments | C60: 0 | D60: 0 | E60: 0 | F60: 0 | G60: 0 | H60: 0
A61: 27.2 | B61: Other equity instruments issued | C61: 0 | D61: 0 | E61: 0 | F61: 0 | G61: 0 | H61: 0
...

Sheet 3. SOPL
A1: Bank: | B1: =Info!C2 -> Terabank
A2: Date: | B2: ='1. key ratios'!B2 -> 46295
A4: N | B4: Statement of profit or loss | C4: reporting period | F4: respective period of the previous year
C5: GEL | D5: FX | E5: Total | F5: GEL | G5: FX | H5: Total
A6: 1 | B6: Interest income | C6: 1.2319497e+08 | D6: 50978474 | E6: 1.7417345e+08 | F6: 1.0949395e+08 | G6: 47341408 | H6: 156835362
A7: 1.1 | B7: Financial assets held for trading | C7: 0 | D7: 0 | E7: 0 | F7: 0 | G7: 0 | H7: 0
A8: 1.2 | B8: Non-trading financial assets mandatorily at fair value through profit or loss | C8: 0 | D8: 0 | E8: 0 | F8: 0 | G8: 0 | H8: 0
A9: 1.3 | B9: Financial assets designated at fair value through profit or loss | C9: 0 | D9: 0 | E9: 0 | F9: 0 | G9: 0 | H9: 0
A10: 1.4 | B10: Financial assets at fair value through other comprehensive income | C10: 0 | D10: 0 | E10: 0 | F10: 0 | G10: 0 | H10: 0
A11: 1.5 | B11: Financial assets at amortised cost | C11: 1.2324403e+08 | D11: 50978474 | E11: 1.7422251e+08 | F11: 1.0950942e+08 | G11: 47341408 | H11: 1.5685083e+08
A12: 1.6 | B12: Other assets | C12: -49062 | D12: 0 | E12: -49062 | F12: -15468.221 | G12: 0 | H12: -15468.221
A13: 2 | B13: (Interest expenses) | C13: -75036272 | D13: -30332356 | E13: -1.0536863e+08 | F13: -65061661 | G13: -28766143 | H13: -93827803
A14: 2.1 | B14: (Financial liabilities held for trading) | C14: 0 | D14: 0 | E14: 0 | F14: 0 | G14: 0 | H14: 0
A15: 2.2 | B15: (Financial liabilities designated at fair value through profit or loss) | C15: 0 | D15: 0 | E15: 0 | F15: 0 | G15: 0 | H15: 0
A16: 2.3 | B16: (Financial liabilities measured at amortised cost) | C16: -74125096 | D16: -30332356 | E16: -1.0445745e+08 | F16: -64081959 | G16: -28766143 | H16: -92848102
A17: 2.4 | B17: (Other liabilities) | C17: -911175.2 | D17: 0 | E17: -911175.2 | F17: -979701.16 | G17: 0 | H17: -979701.16
... A45: 24 | B45: Profit or (-) loss after tax | C45: 2344137.6 | D45: 22049133 | E45: 24393271 | F45: 1024405.3 | G45: 21376768 | H45: 22401173

Sheet 4. Off-balance
A1: Bank: | B1: =Info!C2 -> Terabank
A2: Date: | B2: ='1. key ratios'!B2 -> 46295
A4: N | B4: Off-balance sheet items | C4: reporting period | F4: respective period of the previous year
C5: GEL | D5: FX | E5: Total | F5: GEL | G5: FX | H5: Total
A6: 1 | B6: Loan commitments received | C6: 0 | D6: 0 | E6: 0 | F6: 0 | G6: 0 | H6: 0
A7: 2 | B7: Guarantees received as security for liabilities of the bank | C7: 0 | D7: 0 | E7: 0 | F7: 0 | G7: 0 | H7: 0
A8: 3 | B8: Guaratees received as security for receivables of the bank | C8: 2.9900188e+08 | D8: 4.2357623e+08 | E8: 7.2257811e+08 | F8: 2.9788192e+08 | G8: 4.6212045e+08 | H8: 7.6000238e+08
A9: 3.1 | B9: Surety, joint liability | C9: 1.5366962e+08 | D9: 4.2357623e+08 | E9: 5.7724585e+08 | F9: 1.7892407e+08 | G9: 4.6212045e+08 | H9: 6.4104453e+08
A10: 3.2 | B10: Guarantees | C10: 1.4533227e+08 | D10: 0 | E10: 1.4533227e+08 | F10: 1.1895785e+08 | G10: 0 | H10: 1.1895785e+08
A11: 4 | B11: Assets pledged as security for liabilities of the bank | C11: 0 | D11: 0 | E11: 0 | F11: 0 | G11: 0 | H11: 0
A12: 4.1 | B12: Financial assets of the bank | C12: 0 | D12: 0 | E12: 0 | F12: 0 | G12: 0 | H12: 0
A13: 4.2 | B13: Non-financial assets of the bank | C13: 0 | D13: 0 | E13: 0 | F13: 0 | G13: 0 | H13: 0
A14: 5 | B14: Assets pledged as security for receivables of the bank | C14: 1.8194937e+09 | D14: 1.7152567e+09 | E14: 3.5347504e+09 | F14: 1.6818273e+09 | G14: 1.4865068e+09 | H14: 3.1683341e+09
A15: 5.1 | B15: Cash | C15: 16083694 | D15: 31954980 | E15: 48038674 | F15: 17580283 | G15: 32482794 | H15: 50063077
A16: 5.2 | B16: Precious metals and stones | C16: 1.3321398e+08 | D16: 25469.93 | E16: 1.3323945e+08 | F16: 1.1269634e+08 | G16: 2832141.9 | H16: 1.1552849e+08
A17: 5.3 | B17: Real Estate: | C17: 1.415995e+09 | D17: 1.6484119e+09 | E17: 3.0644069e+09 | F17: 1.3090858e+09 | G17: 1.4058855e+09 | H17: 2.7149713e+09
A18: 5.3.1 | B18: Residential Property | C18: 7.8236755e+08 | D18: 5.5851302e+08 | E18: 1.3408806e+09 | F18: 7.5164561e+08 | G18: 4.9266841e+08 | H18: 1.244314e+09
A19: 5.3.2 | B19: Commercial Property | C19: 2.9063616e+08 | D19: 6.8577122e+08 | E19: 9.7640738e+08 | F19: 2.6042052e+08 | G19: 5.3138058e+08 | H19: 7.918011e+08
A20: 5.3.3 | B20: Complex Real Estate | C20: 29621006 | D20: 69463366 | E20: 99084372 | F20: 26761222 | G20: 66754320 | H20: 93515542
A21: 5.3.4 | B21: Land Parcel | C21: 2.5029306e+08 | D21: 1.8363158e+08 | E21: 4.3392465e+08 | F21: 2.1802556e+08 | G21: 2.000174e+08 | H21: 4.1804296e+08
A22: 5.3.5 | B22: Other | C22: 63077240 | D22: 1.5103274e+08 | E22: 2.1410998e+08 | F22: 52232945 | G22: 1.1506478e+08 | H22: 1.6729773e+08
A23: 5.4 | B23: Movable Property | C23: 1.5746721e+08 | D23: 12509820 | E23: 1.6997703e+08 | F23: 1.5300251e+08 | G23: 19603779 | H23: 1.7260629e+08
A24: 5.5 | B24: Shares Pledged | C24: 0 | D24: 0 | E24: 0 | F24: 0 | G24: 0 | H24: 0
A25: 5.6 | B25: Securities | C25: 0 | D25: 0 | E25: 0 | F25: 0 | G25: 0 | H25: 0
A26: 5.7 | B26: Other | C26: 96733807 | D26: 22354527 | E26: 1.1908833e+08 | F26: 89462287 | G26: 25702632 | H26: 1.1516492e+08
A27: 6 | B27: Loan commitments given | C27: 29209101 | D27: 58827572 | E27: 88036673 | F27: 35277741 | G27: 36328865 | H27: 71606607
A28: 7 | B28: guarantees given | C28: 0 | D28: 0 | E28: 0 | F28: 0 | G28: 0 | H28: 0
A29: 8 | B29: Letters of credit Issued | C29: 0 | D29: 0 | E29: 0 | F29: 0 | G29: 0 | H29: 0
A30: 9 | B30: Derivatives | C30: 39874550 | D30: 58855242 | E30: 98729792 | F30: 45283000 | G30: 65650273 | H30: 1.1093327e+08
A31: 9.1 | B31: Receivables through FX contracts (except options) | C31: 39874550 | D31: 9490346.1 | E31: 49364896 | F31: 45283000 | G31: 10183636 | H31: 55466636
A32: 9.2 | B32: Payables through FX contracts (except options) | C32: 0 | D32: 49364896 | E32: 49364896 | F32: 0 | G32: 55466636 | H32: 55466636
A33: 9.3 | B33: Principal of interest rate contracts (except options) | C33: 0 | D33: 0 | E33: 0 | F33: 0 | G33: 0 | H33: 0
A34: 9.4 | B34: Options sold | C34: 0 | D34: 0 | E34: 0 | F34: 0 | G34: 0 | H34: 0
... A43: 11 | B43: Capital expenditure commitment | C43: 0 | D43: 0 | E43: 0 | F43: 0 | G43: 0 | H43: 0

Sheet 5. RWA
A1: Bank: | B1: =Info!C2 -> Terabank
A2: Date: | B2: ='1. key ratios'!B2 -> 46295
A4: Table 5 | B4: Risk Weighted Assets | C4: in Lari
A5: N | C5: =INT((MONTH($B$2))/3)&"Q"&"-"&YEAR($B$2) -> 3Q-2026 | D5: =IF(INT(MONTH($B$2))=3, "4"&"Q"&"-"&YEAR($B$2)-1, IF(INT(MONTH($B$2))=6, "1"&"Q"&"-"&YEAR($B$2), IF(INT(MONTH($B$2))=9, "2"&"Q"&"-"&YEAR($B$2),IF(INT(MONTH($B$2))=12, "3"&"Q"&"-"&YEAR($B$2), 0)))) -> 2Q-2026 | E5: =IF(INT(MONTH($B$2))=3, "3"&"Q"&"-"&YEAR($B$2)-1, IF(INT(MONTH($B$2))=6, "4"&"Q"&"-"&YEAR($B$2)-1, IF(INT(MONTH($B$2))=9, "1"&"Q"&"-"&YEAR($B$2),IF(INT(MONTH($B$2))=12, "2"&"Q"&"-"&YEAR($B$2), 0)))) -> 1Q-2026 | F5: =IF(INT(MONTH($B$2))=3, "2"&"Q"&"-"&YEAR($B$2)-1, IF(INT(MONTH($B$2))=6, "3"&"Q"&"-"&YEAR($B$2)-1, IF(INT(MONTH($B$2))=9, "4"&"Q"&"-"&YEAR($B$2)-1,IF(INT(MONTH($B$2))=12, "1"&"Q"&"-"&YEAR($B$2), 0)))) -> 4Q-2025 | G5: =IF(INT(MONTH($B$2))=3, "1"&"Q"&"-"&YEAR($B$2)-1, IF(INT(MONTH($B$2))=6, "2"&"Q"&"-"&YEAR($B$2)-1, IF(INT(MONTH($B$2))=9, "3"&"Q"&"-"&YEAR($B$2)-1,IF(INT(MONTH($B$2))=12, "4"&"Q"&"-"&YEAR($B$2)-1, 0)))) -> 3Q-2025
A6: 1 | B6: Risk Weighted Assets for Credit Risk | C6: 1.5764739e+09 | D6: 1.6265247e+09 | E6: 1.596645e+09 | F6: 1.5934534e+09 | G6: 1.5416813e+09
A7: 1.1 | B7: Balance sheet items * | C7: 1.5146563e+09 | D7: 1.5646946e+09 | E7: 1.5474434e+09 | F7: 1.5385051e+09 | G7: 1.4884082e+09
A8: 1.1.1 | B8: Including: amounts below the thresholds for deduction (subject to 250% risk weight) | C8: 6700000 | D8: 6700000 | E8: 5500000 | F8: 5500000 | G8: 5500000
A9: 1.2 | B9: Off-balance sheet items | C9: 60203013 | D9: 61247716 | E9: 47628497 | F9: 53162807 | G9: 49724615
A10: 1.3 | B10: Counterparty credit risk | C10: 1614649.1 | D10: 582457.01 | E10: 1573036.7 | F10: 1785452.5 | G10: 3548491.8
A11: 2 | B11: Risk Weighted Assets for Market Risk | C11: 886867.27 | D11: 4173329.7 | E11: 4012826.2 | F11: 5291337.9 | G11: 3281644.6
A12: 3 | B12: Risk Weighted Assets for Operational Risk | C12: 1.6528965e+08 | D12: 1.6528965e+08 | E12: 1.6528965e+08 | F12: 1.6528965e+08 | G12: 148245985
A13: 4 | B13: Total Risk Weighted Assets | C13: 1.7426504e+09 | D13: 1.7959877e+09 | E13: 1.7659474e+09 | F13: 1.7640344e+09 | G13: 1.6932089e+09

Sheet 6. Administrators-shareholders
A1: Bank: | B1: =Info!C2 -> Terabank
A2: Date: | B2: ='1. key ratios'!B2 -> 46295
A4: Table 6 | B4: Information about supervisory board, directorate, beneficiary owners and shareholders
B5: Members of Supervisory Board | C5: Independence status
A6: 1 | B6: H.H. Sheikh Nahayan Mabarak Al Nahayan | C6: Non-independent chair
A7: 2 | B7: Abhijit Choudury | C7: Non-independent member
A8: 3 | B8: Seit Devdariani | C8: Independent member
A9: 4 | B9: Nana Mikashavidze | C9: Senior Independent member
A10: 5 | B10: Teona Mikadze | C10: Independent member
B14: Members of Board of Directors | C14: Position/Subordinated business units
A15: 1 | B15: Thea Lortkipanidze | C15: Chief Executive Officer
A16: 2 | B16: Sophia Jugeli | C16: Chief Financial Officer
A17: 3 | B17: Teimuraz Abuladze | C17: Chief Risks Officer
A18: 4 | B18: Vakhtang Khutsishvili | C18: Chief Operating Officer
A19: 5 | B19: David Verulashvili | C19: Chief Commercial Officer
B21: List of Shareholders owning 1% and more of issued capital, indicating Shares
A22: 1 | B22: H. H. Sheikh Nahayan Mabarak Al Nahayan | C22: 0.869
A23: 2 | B23: H. E. Sheikh Mohamed Buti Al Hamed | C23: 0.081
A24: 3 | B24: LTD "Investment Trading Group" | C24: 0.05
B27: List of bank beneficiaries indicating names of direct or indirect holders of 5% or more of shares
A28: 1 | B28: H. H. Sheikh Nahayan Mabarak Al Nahayan | C28: 0.869
A29: 2 | B29: H. E. Sheikh Mohamed Buti Al Hamed | C29: 0.081
A30: 3 | B30: LTD "Investment Trading Group" | C30: 0.05

Sheet 7. LI1
A1: Bank: | B1: =Info!C2 -> Terabank
A2: Date: | B2: ='1. key ratios'!B2 -> 46295
A4: Table 7 | B4: Linkages between financial statement assets and balance sheet items subject to credit risk weighting
C5: a | D5: b | E5: c
B6: Account name of standardazed supervisory balance sheet item | C6: Carrying values as reported in published stand-alone financial statements per IFRS | D6: Carrying values of items
D7: Not subject to capital requirements or subject to deduction from capital | E7: Subject to credit risk weighting
A8: 1 | B8: Cash, Cash balances with National Bank of Georgia and other banks | C8: 1.9176195e+08 | D8: 0 | E8: 1.9176195e+08
A9: 1.1 | B9: Cash on hand | C9: 53851443 | D9: 0 | E9: 53851443
A10: 1.2 | B10: Casha balances with National bank of Georgia | C10: 1.0966793e+08 | D10: 0 | E10: 1.0966793e+08
A11: 1.3 | B11: Cash balances with other banks | C11: 28242580 | D11: 0 | E11: 28242580
A12: 2 | B12: Financial assets held for trading | C12: 588123.34 | D12: 0 | E12: 588123.34
A13: 2.1 | B13: of which:derivatives | C13: 588123.34 | D13: 0 | E13: 588123.34
A14: 3 | B14: Non-trading financial assets mandatorily at fair value through profit or loss | C14: 0 | D14: 0 | E14: 0
A15: 4 | B15: Financial assets designated at fair value through profit or loss | C15: 0 | D15: 0 | E15: 0
A16: 5 | B16: Financial assets at fair value through other comprehensive income | C16: 0 | D16: 0 | E16: 0
A17: 5.1 | B17: Equity instruments | C17: 0 | D17: 0 | E17: 0
A18: 5.2 | B18: Debt securities | C18: 0 | D18: 0 | E18: 0
A19: 5.3 | B19: Loans and advances | C19: 0 | D19: 0 | E19: 0
... A36: 13.2 | B36: of which: dividends receivable | C36: 0 | D36: 0 | E36: 0
B37: Total exposures subject to credit risk weighting before adjustments | C37: 2.2300758e+09 | D37: 42106678 | E37: 2.1879691e+09

Sheet 8. LI2
A1: Bank: | B1: =Info!C2 -> Terabank
A2: Date: | B2: ='1. key ratios'!B2 -> 46295
A4: Table 8 | B4: Differences between values per standardized balance sheet used for regulatory reporting purposes and the exposure amounts used for capital adequacy calculation purposes | C4: in Lari
A5: 1 | B5: Total carrying value of balance sheet items subject to credit risk weighting before adjustments | C5: ='7. LI1'!E37 -> 2.1879691e+09
A6: 2.1 | B6: Nominal values of off-balance sheet items subject to credit risk weighting | C6: 1.3542047e+08
A7: 2.2 | B7: Nominal values of off-balance sheet items subject to counterparty credit risk weighting | C7: 49364896
A8: 3 | B8: Total values of on-balance and off-balance sheet items before any adjustments used for credit risk weighting purposes | C8: =SUM(C5:C7) -> 2.3727544e+09
A9: 4 | B9: Effect of provisioning rules used for capital adequacy purposes | C9: 0
A10: 5.1 | B10: Effect of credit conversion factor of off-balance sheet items related to credit risk framework | C10: -67910573
A11: 5.2 | B11: Effect of credit conversion factor of off-balance sheet items related to counterparty credit risk framework (table CCR) | C11: -46135598
A12: 6 | B12: Effect of other adjustments * | C12: 0
A13: 7 | B13: Total exposures subject to credit risk weighting | C13: =SUM(C8:C12) -> 2.2587083e+09

Sheet 9. Capital
A1: Bank: | B1: =Info!C2 -> Terabank
A2: Date: | B2: ='1. key ratios'!B2 -> 46295
A4: Table 9 | B4: Regulatory capital
A5: N | C5: in Lari
A6: 1 | B6: Common Equity Tier 1 capital before regulatory adjustments | C6: 334921679
A7: 2 | B7: Common shares that comply with the criteria for Common Equity Tier 1 | C7: 128022000
A8: 3 | B8: Stock surplus (share premium) of common share that meets the criteria of Common Equity Tier 1 | C8: 0
A9: 4 | B9: Accumulated other comprehensive income | C9: 0
A10: 5 | B10: Other disclosed reserves | C10: 0
A11: 6 | B11: Retained earnings (loss) | C11: 206899679
A12: 7 | B12: Regulatory Adjustments of Common Equity Tier 1 capital | C12: 42406952
A13: 8 | B13: Revaluation reserves on assets | C13: 0
A14: 9 | B14: Accumulated unrealized revaluation gains on assets through profit and loss to the extent that they exceed accumulated unrealized revaluation losses through profit and loss | C14: 0
A15: 10 | B15: Intangible assets | C15: 42106678
A16: 11 | B16: Shortfall of the stock of provisions to the provisions based on the Asset Classification | C16: 0
A17: 12 | B17: Investments in own shares | C17: 0
... A29: 24 | B29: Common Equity Tier 1 | C29: 2.9251473e+08
C30: 0
A31: 25 | B31: Additional tier 1 capital before regulatory adjustments | C31: 54707100
A32: 26 | B32: Instruments that comply with the criteria for Additional tier 1 capital | C32: 54707100
A33: 27 | B33: Including:instruments classified as equity under the relevant accounting standards | C33: 0
A34: 28 | B34: Including: instruments classified as liabilities under the relevant accounting standards | C34: 54707100
A35: 29 | B35: Stock surplus (share premium) that meet the criteria for Additional Tier 1 capital | C35: 0
A36: 30 | B36: Regulatory Adjustments of Additional Tier 1 capital | C36: 0
A37: 31 | B37: Investments in own Additional Tier 1 instruments | C37: 0
A38: 32 | B38: Reciprocal cross-holdings in Additional Tier 1 instruments | C38: 0
A39: 33 | B39: Significant investments in the Additional Tier 1 capital (that are not common shares) of commercial banks, insurance entities and other financial institutions | C39: 0
A40: 34 | B40: Investments in the capital of commercial banks, insurance entities and other financial institutions where the bank does not own more than 10% of the issued share capital (amount above 10% limit) | C40: 0
A41: 35 | B41: Regulatory adjustments applied to Additional Tier 1 resulting from shortfall of Tier 2 capital to deduct investments | C41: 0
A42: 36 | B42: Additional Tier 1 Capital | C42: 54707100
C43: 0
A44: 37 | B44: Tier 2 capital before regulatory adjustments | C44: 60513768
A45: 38 | B45: Instruments that comply with the criteria for Tier 2 capital | C45: 60513768
A46: 39 | B46: Stock surplus (share premium) that meet the criteria for Tier 2 capital | C46: 0
A47: 40 | B47: General reserves, limited to a maximum of 1.25% of the bank’s credit risk-weighted exposures | C47: 0
A48: 41 | B48: Regulatory Adjustments of Tier 2 Capital | C48: 0
A49: 42 | B49: Investments in own shares that meet the criteria for Tier 2 capital | C49: 0
A50: 43 | B50: Reciprocal cross-holdings in Tier 2 capital | C50: 0
A51: 44 | B51: Significant investments in the Tier 2 capital (that are not common shares) of commercial banks, insurance entities and other financial institutions | C51: 0
A52: 45 | B52: Investments in the capital of commercial banks, insurance entities and other financial institutions where the bank does not own more than 10% of the issued share capital (amount above 10% limit) | C52: 0
...

Sheet 9.1. Capital Requirements
A1: Bank: | B1: =Info!C2 -> Terabank
A2: Date: | B2: ='1. key ratios'!B2 -> 46295
A4: Table 9.1 | B4: Capital Adequacy Requirements
B5: Minimum Requirements | C5: Ratios | D5: Amounts (GEL)
A6: 1 | B6: Pillar 1 Requirements
A7: 1.1 | B7: Minimum CET1 Requirement | C7: 0.045 | D7: 78419270
A8: 1.2 | B8: Minimum Tier 1 Requirement | C8: 0.06 | D8: 1.0455903e+08
A9: 1.3 | B9: Minimum Regulatory Capital Requirement | C9: 0.08 | D9: 1.3941204e+08
A10: 2 | B10: Combined Buffer
A11: 2.1 | B11: Capital Conservation Buffer * | C11: 0.025 | D11: 43566261
A12: 2.2 | B12: Countercyclical Buffer | C12: 0.0075 | D12: 13069878
A13: 2.3 | B13: Systemic Risk Buffer | C13: 0 | D13: 0
A14: 3 | B14: Pillar 2 Requirements
A15: 3.1 | B15: CET1 Pillar 2 Requirement | C15: 0.060039427 | D15: 1.0462773e+08
A16: 3.2 | B16: Tier 1 Pillar2 Requirement | C16: 0.068606554 | D16: 1.1955724e+08
A17: 3.3 | B17: Regulatory capital Pillar 2 Requirement | C17: 0.079879091 | D17: 1.3920133e+08
B18: Total Requirements | C18: Ratios | D18: Amounts (GEL)
A19: 4 | B19: CET1 | C19: 0.13753943 | D19: 2.3968314e+08
A20: 5 | B20: Tier 1 | C20: 0.16110655 | D20: 2.8075241e+08
A21: 6 | B21: Total regulatory Capital | C21: 0.19237909 | D21: 3.3524951e+08

Sheet 9.2. MREL1
A1: Bank: | B1: =Info!C2 -> Terabank
A2: Date: | B2: ='1. key ratios'!B2 -> 46295
A3: Table 9.2 | B3: The table is filled only by systemically important banks
B5: MREL Resource
A6: Own funds and eligible liabilities | B6: =SUM(B7,B11) -> 4.077356e+08
A7: Own funds 1 | B7: =SUM(B8:B10) -> 4.077356e+08
A8: Common Equity Tier 1 (CET 1) | B8: 2.9251473e+08
A9: Additional Tier 1 Capital (AT 1) | B9: 54707100
A10: Tier 2 Capital (Tier 2) | B10: 60513768
A11: Eligible liabilities | B11: =SUM(B12:B13) -> 0
A12: Subordinated Loans (not classified as own funds)2 | B12: 0
A13: Eligible liabilities3 | B13: 0
A14: Total Liabilities and Own Funds (TLOF) | B14: =SUM(B15:B16) -> 4.077356e+08
A15: Total liabilities (except capital instruments) | B15: 0
A16: Own funds | B16: =B7 -> 4.077356e+08
A17: Total Risk Exposure Amount and Total Exposure Measure
A18: Total Risk Exposure Amount (TREA) | B18: 1.7426504e+09
A19: Total Exposure Measure (TEM) | B19: 0
A20: MREL ratios
A21: Own funds and eligible liabilities as a percentage of TREA | B21: =IFERROR(B6/B18,0) -> 0.2339744
A22: Own funds and eligible liabilities as a percentage of TEM | B22: =IFERROR(B6/B19,0) -> 0
A23: Own funds and eligible liabilities as a percentage of TLOF | B23: =IFERROR(B6/B14,0) -> 1
A24: 1 Capital Instruments
A25: 2 Includes the part of the subordinated liabilities that is amortized as well as subordinated liabilities that are not classified as own funds.
A26: 3 Includes eligible liabilities with a residual maturity of more than one year that are not classified as own funds. Additionally, contracts of these liabilitied may be governed by Georgian law or fully or partially be subject to a law of a foreign country jurisdiction. Contracts of liabilities fully or partially governed by foreign legislation must include a provision for using the bank's liability write-off or conversion resolution tool for recapitalization (bail-in clause).

Sheet 9.3. MREL2
A1: Bank: | B1: =Info!C2 -> Terabank
A2: Date: | B2: ='1. key ratios'!B2 -> 46295
A3: Table 9.3 | B3: The table is filled only by systemically important banks
B7: Residual Maturity | F7: Total
B8: < 1 year | C8: >= 1 year და <2 years | D8: >= 2 years | E8: perpetual
A9: Own funds and eligible liabilities | B9: =B13+B17 -> 0 | C9: =C13+C17 -> 0 | D9: =D13+D17 -> 0 | E9: =E13+E17 -> 0 | F9: =F13+F17 -> 0
A10: of which: contracts governed by Georgian law | B10: 0 | C10: 0 | D10: 0 | E10: 0 | F10: =SUM(B10:E10) -> 0
A11: of which: contracts governed by foreign country law | B11: 0 | C11: 0 | D11: 0 | E11: 0 | F11: =SUM(B11:E11) -> 0
A12: of which: contracts that include bail-in clause | B12: 0 | C12: 0 | D12: 0 | E12: 0 | F12: =SUM(B12:E12) -> 0
A13: Own funds
A14: of which: contracts governed by Georgian law
A15: of which: contracts governed by foreign country law
A16: of which: contracts that include bail-in clause
A17: Eligible liabilities
A18: of which: contracts governed by Georgian law
A19: of which: contracts governed by foreign country law
A20: of which: contracts that include bail-in clause

Sheet 10. CC2
A1: Bank: | B1: =Info!C2 -> Terabank
A2: Date: | B2: ='1. key ratios'!B2 -> 46295
A4: Table 10 | B4: Reconcilation of balance sheet to regulatory capital | D4: in Lari
A5: N | B5: On-balance sheet items per standardized regulatory report | C5: Carrying values as reported in published stand-alone financial statements per IFRS | D5: linkage to capital table
A6: 1 | B6: Cash, Cash balances with National Bank of Georgia and other banks | C6: 1.9176195e+08
A7: 1.1 | B7: Cash on hand | C7: 53851443
A8: 1.2 | B8: Casha balances with National bank of Georgia | C8: 1.0966793e+08
A9: 1.3 | B9: Cash balances with other banks | C9: 28242580
A10: 2 | B10: Financial assets held for trading | C10: 588123.34
A11: 2.1 | B11: of which:derivatives | C11: 588123.34
A12: 3 | B12: Non-trading financial assets mandatorily at fair value through profit or loss | C12: 0
A13: 4 | B13: Financial assets designated at fair value through profit or loss | C13: 0
A14: 5 | B14: Financial assets at fair value through other comprehensive income | C14: 0
A15: 5.1 | B15: Equity instruments | C15: 0
A16: 5.2 | B16: Debt securities | C16: 0
A17: 5.3 | B17: Loans and advances | C17: 0
... A25: 9.2 | B25: Investment property | C25: 0
A26: 10 | B26: Intangible assets | C26: 42106678 | D26: Table 9 (Capital), N10
A27: 10.1 | B27: Goodwill | C27: 20374000
A28: 10.2 | B28: Other intangible assets | C28: 21732678
A29: 11 | B29: Tax assets | C29: 896506.31
A30: 11.1 | B30: Current tax assets | C30: 896506.31
A31: 11.2 | B31: Deferred tax assets | C31: 0
A32: 13 | B32: Other assets | C32: 61222112
A33: 13.1 | B33: of which: repossessed collateral | C33: 52530837
A34: 13.2 | B34: of which: dividends receivable | C34: 0
A35: 14 | B35: TOTAL ASSETS | C35: 2.2300758e+09
B36: LIABILITIES | C36: 0
A37: 15 | B37: Financial liabilities held for trading | C37: 0
A38: 15.1 | B38: of which:derivatives | C38: 0
A39: 16 | B39: Financial liabilities designated at fair value through profit or loss | C39: 0
A40: 17 | B40: Financial liabilities measured at amortised cost | C40: 1.7748444e+09
A41: 17.1 | B41: Deposits | C41: 1.4431289e+09
A42: 17.2 | B42: borrowings | C42: 2.7992616e+08
A43: 17.3 | B43: Debt securities issued | C43: 21121861
A44: 17.4 | B44: Other financial liabilities | C44: 30667553
A45: 18 | B45: Provisions | C45: 431983.4
A46: 19 | B46: Tax liabilities | C46: 5161649
A47: 19.1 | B47: Current tax liabilities | C47: 0
A48: 19.2 | B48: Deferred tax liabilities | C48: 5161649
...

Sheet 11. CRWA
A1: Bank: | B1: =Info!C2 -> Terabank
A2: Date: | B2: ='1. key ratios'!B2 -> 46295
A4: Table 11 | B4: Credit Risk Weighted Exposures (On-balance items and off-balance items after credit conversion factor)
C5: a | D5: b | E5: c | F5: d | G5: e | H5: f | I5: g | J5: h | K5: i | L5: j | M5: k | N5: l | O5: m | P5: n | Q5: o | R5: p | S5: q
B6: Risk weights Exposure classes | C6: 0 | E6: 0.2 | G6: 0.35 | I6: 0.5 | K6: 0.75 | M6: 1 | O6: 1.5 | Q6: 2.5 | S6: Risk Weighted Exposures before Credit Risk Mitigation
C7: On-balance sheet amount | D7: Off-balance sheet amount | E7: On-balance sheet amount | F7: Off-balance sheet amount | G7: On-balance sheet amount | H7: Off-balance sheet amount | I7: On-balance sheet amount | J7: Off-balance sheet amount | K7: On-balance sheet amount | L7: Off-balance sheet amount | M7: On-balance sheet amount | N7: Off-balance sheet amount | O7: On-balance sheet amount | P7: Off-balance sheet amount | Q7: On-balance sheet amount | R7: Off-balance sheet amount
A8: 1 | B8: Claims or contingent claims on central governments or central banks | C8: 2.4674655e+08 | D8: 0 | E8: 0 | F8: 0 | G8: 0 | H8: 0 | I8: 0 | J8: 0 | K8: 0 | L8: 0 | M8: 70194748 | N8: 0 | O8: 0 | P8: 0 | Q8: 0 | R8: 0 | S8: 70194748
A9: 2 | B9: Claims or contingent claims on regional governments or local authorities | C9: 0 | D9: 0 | E9: 0 | F9: 0 | G9: 0 | H9: 0 | I9: 0 | J9: 0 | K9: 0 | L9: 0 | M9: 0 | N9: 0 | O9: 0 | P9: 0 | Q9: 0 | R9: 0 | S9: 0
A10: 3 | B10: Claims or contingent claims on public sector entities | C10: 0 | D10: 0 | E10: 0 | F10: 0 | G10: 0 | H10: 0 | I10: 0 | J10: 0 | K10: 0 | L10: 0 | M10: 0 | N10: 0 | O10: 0 | P10: 0 | Q10: 0 | R10: 0 | S10: 0
A11: 4 | B11: Claims or contingent claims on multilateral development banks | C11: 0 | D11: 0 | E11: 0 | F11: 0 | G11: 0 | H11: 0 | I11: 0 | J11: 0 | K11: 0 | L11: 0 | M11: 0 | N11: 0 | O11: 0 | P11: 0 | Q11: 0 | R11: 0 | S11: 0
A12: 5 | B12: Claims or contingent claims on international organizations/institutions | C12: 0 | D12: 0 | E12: 0 | F12: 0 | G12: 0 | H12: 0 | I12: 0 | J12: 0 | K12: 0 | L12: 0 | M12: 0 | N12: 0 | O12: 0 | P12: 0 | Q12: 0 | R12: 0 | S12: 0
A13: 6 | B13: Claims or contingent claims on commercial banks | C13: 0 | D13: 0 | E13: 16728857 | F13: 0 | G13: 0 | H13: 0 | I13: 11271595 | J13: 0 | K13: 0 | L13: 0 | M13: 946827.29 | N13: 0 | O13: 0 | P13: 0 | Q13: 0 | R13: 0 | S13: 9928395.9
A14: 7 | B14: Claims or contingent claims on corporates | C14: 0 | D14: 0 | E14: 0 | F14: 0 | G14: 0 | H14: 0 | I14: 0 | J14: 0 | K14: 0 | L14: 0 | M14: 7.3275602e+08 | N14: 49168578 | O14: 0 | P14: 0 | Q14: 0 | R14: 0 | S14: 7.8192459e+08
A15: 8 | B15: Retail claims or contingent retail claims | C15: 0 | D15: 0 | E15: 0 | F15: 0 | G15: 0 | H15: 0 | I15: 0 | J15: 0 | K15: 7.1630458e+08 | L15: 17377488 | M15: 0 | N15: 0 | O15: 0 | P15: 0 | Q15: 0 | R15: 0 | S15: 5.5026155e+08
A16: 9 | B16: Claims or contingent claims secured by mortgages on residential property | C16: 0 | D16: 0 | E16: 0 | F16: 0 | G16: 1.6853885e+08 | H16: 963828.68 | I16: 0 | J16: 0 | K16: 0 | L16: 0 | M16: 0 | N16: 0 | O16: 0 | P16: 0 | Q16: 0 | R16: 0 | S16: 59325936
A17: 10 | B17: Past due items | C17: 0 | D17: 0 | E17: 0 | F17: 0 | G17: 0 | H17: 0 | I17: 0 | J17: 0 | K17: 0 | L17: 0 | M17: 0 | N17: 0 | O17: 31607167 | P17: 0 | Q17: 0 | R17: 0 | S17: 47410751
A18: 11 | B18: Items belonging to regulatory high-risk categories | C18: 0 | D18: 0 | E18: 0 | F18: 0 | G18: 0 | H18: 0 | I18: 0 | J18: 0 | K18: 0 | L18: 0 | M18: 0 | N18: 0 | O18: 0 | P18: 0 | Q18: 0 | R18: 0 | S18: 0
A19: 12 | B19: Short-term claims on commercial banks and corporates | C19: 0 | D19: 0 | E19: 0 | F19: 0 | G19: 0 | H19: 0 | I19: 0 | J19: 0 | K19: 0 | L19: 0 | M19: 0 | N19: 0 | O19: 0 | P19: 0 | Q19: 0 | R19: 0 | S19: 0
... A21: 14 | B21: Other items | C21: 53839031 | D21: 0 | E21: 12411.88 | F21: 0 | G21: 0 | H21: 0 | I21: 0 | J21: 0 | K21: 0 | L21: 0 | M21: 1.322964e+08 | N21: 0 | O21: 0 | P21: 0 | Q21: 6726054 | R21: 0 | S21: 1.4911401e+08
B22: Total | C22: 3.0058558e+08 | D22: 0 | E22: 16741269 | F22: 0 | G22: 1.6853885e+08 | H22: 963828.68 | I22: 11271595 | J22: 0 | K22: 7.1630458e+08 | L22: 17377488 | M22: 9.3619399e+08 | N22: 49168578 | O22: 31607167 | P22: 0 | Q22: 6726054 | R22: 0 | S22: 1.66816e+09

Sheet 12. CRM
A1: Bank: | B1: =Info!C2 -> Terabank
A2: Date: | B2: ='1. key ratios'!B2 -> 46295
A4: Table 12 | B4: Credit Risk Mitigation | V4: in Lari
C5: Funded Credit Protection | M5: Unfunded Credit Protection | T5: Total Credit Risk Mitigation - On-balance sheet | U5: Total Credit Risk Mitigation - Off-balance sheet | V5: Total Credit Risk Mitigation
C6: On-balance sheet netting | D6: Cash on deposit with, or cash assimilated instruments | E6: Debt securities issued by central governments or central banks, regional governments or local authorities, public sector entities, multilateral development banks and international organizations/institutions | F6: Debt securities issued by regional governments or local authorities, public sector entities, multilateral development banks and international organizations/institutions | G6: Debt securities issued by other entities, which securities have a credit assessment, which has been determined by NBG to be associated with credit quality step 3 or above under the rules for the risk weighting of exposures to corporates. | H6: Debt securities with a short-term credit assessment, which has been determined by NBG to be associated with credit quality step 3 or above under the rules for the risk weighting of short term exposures | I6: Equities or convertible bonds that are included in a main index | J6: Standard gold bullion or equivalent | K6: Debt securities without credit rating issued by commercial banks | L6: Units in collective investment undertakings | M6: Central governments or central banks | N6: Regional governments or local authorities | O6: Multilateral development banks | P6: International organizations / institutions | Q6: Public sector entities | R6: Commercial banks | S6: Other corporate entities that have a credit assessment, which has been determined by NBG to be associated with credit quality step 2 or above under the rules for the risk weighting of exposures to corporates
A7: 1 | B7: Claims or contingent claims on central governments or central banks | C7: 0 | D7: 0 | E7: 0 | F7: 0 | G7: 0 | H7: 0 | I7: 0 | J7: 0 | K7: 0 | L7: 0 | M7: 0 | N7: 0 | O7: 0 | P7: 0 | Q7: 0 | R7: 0 | S7: 0 | T7: 0 | U7: 0 | V7: =SUM(C7:S7) -> 0
A8: 2 | B8: Claims or contingent claims on regional governments or local authorities | C8: 0 | D8: 0 | E8: 0 | F8: 0 | G8: 0 | H8: 0 | I8: 0 | J8: 0 | K8: 0 | L8: 0 | M8: 0 | N8: 0 | O8: 0 | P8: 0 | Q8: 0 | R8: 0 | S8: 0 | T8: 0 | U8: 0 | V8: =SUM(C8:S8) -> 0
A9: 3 | B9: Claims or contingent claims on public sector entities | C9: 0 | D9: 0 | E9: 0 | F9: 0 | G9: 0 | H9: 0 | I9: 0 | J9: 0 | K9: 0 | L9: 0 | M9: 0 | N9: 0 | O9: 0 | P9: 0 | Q9: 0 | R9: 0 | S9: 0 | T9: 0 | U9: 0 | V9: =SUM(C9:S9) -> 0
A10: 4 | B10: Claims or contingent claims on multilateral development banks | C10: 0 | D10: 0 | E10: 0 | F10: 0 | G10: 0 | H10: 0 | I10: 0 | J10: 0 | K10: 0 | L10: 0 | M10: 0 | N10: 0 | O10: 0 | P10: 0 | Q10: 0 | R10: 0 | S10: 0 | T10: 0 | U10: 0 | V10: =SUM(C10:S10) -> 0
A11: 5 | B11: Claims or contingent claims on international organizations/institutions | C11: 0 | D11: 0 | E11: 0 | F11: 0 | G11: 0 | H11: 0 | I11: 0 | J11: 0 | K11: 0 | L11: 0 | M11: 0 | N11: 0 | O11: 0 | P11: 0 | Q11: 0 | R11: 0 | S11: 0 | T11: 0 | U11: 0 | V11: =SUM(C11:S11) -> 0
A12: 6 | B12: Claims or contingent claims on commercial banks | C12: 0 | D12: 0 | E12: 0 | F12: 0 | G12: 0 | H12: 0 | I12: 0 | J12: 0 | K12: 0 | L12: 0 | M12: 0 | N12: 0 | O12: 0 | P12: 0 | Q12: 0 | R12: 0 | S12: 0 | T12: 0 | U12: 0 | V12: =SUM(C12:S12) -> 0
A13: 7 | B13: Claims or contingent claims on corporates | C13: 0 | D13: 29986915 | E13: 0 | F13: 0 | G13: 0 | H13: 0 | I13: 0 | J13: 0 | K13: 0 | L13: 0 | M13: 17754413 | N13: 0 | O13: 728237.41 | P13: 0 | Q13: 0 | R13: 0 | S13: 0 | T13: 46365207 | U13: 2104358.2 | V13: =SUM(C13:S13) -> 48469566
A14: 8 | B14: Retail claims or contingent retail claims | C14: 0 | D14: 3979459.8 | E14: 0 | F14: 0 | G14: 0 | H14: 0 | I14: 0 | J14: 0 | K14: 0 | L14: 0 | M14: 6021413.4 | N14: 0 | O14: 22272423 | P14: 0 | Q14: 0 | R14: 0 | S14: 0 | T14: 32041633 | U14: 231662.87 | V14: =SUM(C14:S14) -> 32273296
A15: 9 | B15: Claims or contingent claims secured by mortgages on residential property | C15: 0 | D15: 0 | E15: 0 | F15: 0 | G15: 0 | H15: 0 | I15: 0 | J15: 0 | K15: 0 | L15: 0 | M15: 144609.71 | N15: 0 | O15: 637546.05 | P15: 0 | Q15: 0 | R15: 0 | S15: 0 | T15: 782155.76 | U15: 0 | V15: =SUM(C15:S15) -> 782155.76
A16: 10 | B16: Past due items | C16: 0 | D16: 0 | E16: 0 | F16: 0 | G16: 0 | H16: 0 | I16: 0 | J16: 0 | K16: 0 | L16: 0 | M16: 11045718 | N16: 0 | O16: 729970.65 | P16: 0 | Q16: 0 | R16: 0 | S16: 0 | T16: 11775689 | U16: 0 | V16: =SUM(C16:S16) -> 11775689
A17: 11 | B17: Items belonging to regulatory high-risk categories | C17: 0 | D17: 0 | E17: 0 | F17: 0 | G17: 0 | H17: 0 | I17: 0 | J17: 0 | K17: 0 | L17: 0 | M17: 0 | N17: 0 | O17: 0 | P17: 0 | Q17: 0 | R17: 0 | S17: 0 | T17: 0 | U17: 0 | V17: =SUM(C17:S17) -> 0
A18: 12 | B18: Short-term claims on commercial banks and corporates | C18: 0 | D18: 0 | E18: 0 | F18: 0 | G18: 0 | H18: 0 | I18: 0 | J18: 0 | K18: 0 | L18: 0 | M18: 0 | N18: 0 | O18: 0 | P18: 0 | Q18: 0 | R18: 0 | S18: 0 | T18: 0 | U18: 0 | V18: =SUM(C18:S18) -> 0
... A20: 14 | B20: Other items | C20: 0 | D20: 0 | E20: 0 | F20: 0 | G20: 0 | H20: 0 | I20: 0 | J20: 0 | K20: 0 | L20: 0 | M20: 0 | N20: 0 | O20: 0 | P20: 0 | Q20: 0 | R20: 0 | S20: 0 | T20: 0 | U20: 0 | V20: =SUM(C20:S20) -> 0
B21: Total | C21: =SUM(C7:C20) -> 0 | D21: =SUM(D7:D20) -> 33966375 | E21: =SUM(E7:E20) -> 0 | F21: =SUM(F7:F20) -> 0 | G21: =SUM(G7:G20) -> 0 | H21: =SUM(H7:H20) -> 0 | I21: =SUM(I7:I20) -> 0 | J21: =SUM(J7:J20) -> 0 | ... V21: =SUM(V7:V20) -> 93300706

Sheet 13. CRME
A1: Bank: | B1: =Info!C2 -> Terabank
A2: Date: | B2: ='1. key ratios'!B2 -> 46295
A4: Table 13 | B4: Standardized approach - Effect of credit risk mitigation
C5: a | D5: b | E5: c | F5: d | G5: e | H5: f
B6: Asset Classes | C6: On-balance sheet exposures | D6: Off-balance sheet exposures | F6: RWA before Credit Risk Mitigation | G6: RWA post Credit Risk Mitigation | H6: RWA Density f=e/(a+c)
D7: Off-balance sheet exposures - Nominal value | E7: Off-balance sheet exposures post CCF
A8: 1 | B8: Claims or contingent claims on central governments or central banks | C8: 3.169413e+08 | D8: 0 | E8: 0 | F8: 70194748 | G8: 70194748 | H8: 0.22147555
A9: 2 | B9: Claims or contingent claims on regional governments or local authorities | C9: 0 | D9: 0 | E9: 0 | F9: 0 | G9: 0
A10: 3 | B10: Claims or contingent claims on public sector entities | C10: 0 | D10: 0 | E10: 0 | F10: 0 | G10: 0
A11: 4 | B11: Claims or contingent claims on multilateral development banks | C11: 0 | D11: 0 | E11: 0 | F11: 0 | G11: 0
A12: 5 | B12: Claims or contingent claims on international organizations/institutions | C12: 0 | D12: 0 | E12: 0 | F12: 0 | G12: 0
A13: 6 | B13: Claims or contingent claims on commercial banks | C13: 28947279 | D13: 0 | E13: 0 | F13: 9928395.9 | G13: 9928395.9 | H13: 0.34298201
A14: 7 | B14: Claims or contingent claims on corporates | C14: 7.3275602e+08 | D14: 94994722 | E14: 49168578 | F14: 7.8192459e+08 | G14: 7.3345503e+08 | H14: 0.93801248
A15: 8 | B15: Retail claims or contingent retail claims | C15: 7.1630458e+08 | D15: 38537385 | E15: 17377488 | F15: 5.5026155e+08 | G15: 5.1798826e+08 | H15: 0.70601188
A16: 9 | B16: Claims or contingent claims secured by mortgages on residential property | C16: 1.6853885e+08 | D16: 1888360.8 | E16: 963828.68 | F16: 59325936 | G16: 58543780 | H16: 0.34538558
A17: 10 | B17: Past due items | C17: 31607167 | D17: 0 | E17: 0 | F17: 47410751 | G17: 35635062 | H17: 1.1274361
A18: 11 | B18: Items belonging to regulatory high-risk categories | C18: 0 | D18: 0 | E18: 0 | F18: 0 | G18: 0
A19: 12 | B19: Short-term claims on commercial banks and corporates | C19: 0 | D19: 0 | E19: 0 | F19: 0 | G19: 0
A20: 13 | B20: Claims in the form of collective investment undertakings (‘CIU’) | C20: 0 | D20: 0 | E20: 0 | F20: 0 | G20: 0
A21: 14 | B21: Other items | C21: 1.9287389e+08 | D21: 0 | E21: 0 | F21: 1.4911401e+08 | G21: 1.4911401e+08 | H21: 0.77311663
B22: Total | C22: 2.1879691e+09 | D22: 1.3542047e+08 | E22: 67509894 | F22: 1.66816e+09 | G22: 1.5748593e+09 | H22: 0.69823718

Sheet 14. LCR
A1: Bank: | B1: =Info!C2 -> Terabank
A2: Date: | B2: ='1. key ratios'!B2 -> 46295
A4: Table 11 | B4: Liquidity Coverage Ratio
C5: Total unweighted value (daily average) | F5: Total weighted values according to NBG's methodology* (daily average) | I5: Total weighted values according to Basel methodology (daily average)
C6: GEL | D6: FX | E6: Total | F6: GEL | G6: FX | H6: Total | I6: GEL | J6: FX | K6: Total
A7: High-quality liquid assets
A8: 1 | B8: Total HQLA | F8: 2.9247859e+08 | G8: 1.3456231e+08 | H8: 4.270409e+08 | I8: 2.7059498e+08 | J8: 99613533 | K8: 3.7020851e+08
A9: Cash outflows
A10: 2 | B10: Retail deposits | C10: 2.258084e+08 | D10: 3.198219e+08 | E10: 5.4563031e+08 | F10: 34170508 | G10: 50056575 | H10: 84227083 | I10: 6762874.2 | J10: 9375172.5 | K10: 16138047
A11: 3 | B11: Unsecured wholesale funding | C11: 7.6111723e+08 | D11: 4.659082e+08 | E11: 1.2270254e+09 | F11: 2.0088074e+08 | G11: 49331165 | H11: 2.502119e+08 | I11: 1.7053547e+08 | J11: 42534205 | K11: 2.1306967e+08
A12: 4 | B12: Secured wholesale funding | C12: 11258235 | D12: 0 | E12: 11258235 | F12: 0 | G12: 0 | H12: 0 | I12: 0 | J12: 0 | K12: 0
A13: 5 | B13: Outflows related to off-balance sheet obligations and net short position of derivative exposures | C13: 75021394 | D13: 1.0895284e+08 | E13: 1.8397424e+08 | F13: 16477835 | G13: 28333078 | H13: 44810913 | I13: 7178877.4 | J13: 14224689 | K13: 21403567
A14: 6 | B14: Other contractual funding obligations | C14: 17985150 | D14: 17191472 | E14: 35176622 | F14: 0 | G14: 0 | H14: 0 | I14: 0 | J14: 0 | K14: 0
A15: 7 | B15: Other contingent funding obligations | C15: 24075657 | D15: 6456524 | E15: 30532181 | F15: 6349126.3 | G15: 4336533 | H15: 10685659 | I15: 6349126.3 | J15: 4336533 | K15: 10685659
A16: 8 | B16: TOTAL CASH OUTFLOWS | C16: 1.1152661e+09 | D16: 9.1833094e+08 | E16: 2.033597e+09 | F16: 2.5787821e+08 | G16: 1.3205735e+08 | H16: 3.8993556e+08 | I16: 1.9082635e+08 | J16: 70470600 | K16: 2.6129695e+08
A17: Cash inflows | C17: 0 | D17: 0 | E17: 0 | F17: 0 | G17: 0 | H17: 0 | I17: 0 | J17: 0 | K17: 0
A18: 9 | B18: Secured lending (eg reverse repos) | C18: 0 | D18: 0 | E18: 0 | F18: 0 | G18: 0 | H18: 0 | I18: 0 | J18: 0 | K18: 0
A19: 10 | B19: Inflows from fully performing exposures | C19: 8.396262e+08 | D19: 6.9990406e+08 | E19: 1.5395303e+09 | F19: 50394512 | G19: 11324532 | H19: 61719044 | I19: 72278124 | J19: 46295164 | K19: 1.1857329e+08
A20: 11 | B20: Other cash inflows | C20: 49841223 | D20: 13243783 | E20: 63085006 | F20: 9103338.1 | G20: 7721942.1 | H20: 16825280 | I20: 9103338.1 | J20: 7721942.1 | K20: 16825280
A21: 12 | B21: TOTAL CASH INFLOWS | C21: 8.8946743e+08 | D21: 7.1314785e+08 | E21: 1.6026153e+09 | F21: 59497850 | G21: 19046474 | H21: 78544324 | I21: 81381462 | J21: 54017106 | K21: 1.3539857e+08
F22: Total value according to NBG's methodology* (with limits) | I22: Total value according to Basel methodology (with limits)
A23: 13 | B23: Total HQLA | F23: 2.9247859e+08 | G23: 1.3456231e+08 | H23: 4.270409e+08 | I23: 2.7059498e+08 | J23: 99613533 | K23: 3.7020851e+08
A24: 14 | B24: Net cash outflow | F24: 1.9838036e+08 | G24: 1.1301088e+08 | H24: 3.1139123e+08 | I24: 1.0944488e+08 | J24: 17617650 | K24: 1.2589838e+08
A25: 15 | B25: Liquidity coverage ratio (%) | F25: 1.4743324 | G25: 1.1907023 | H25: 1.3713967 | I25: 2.4724315 | J25: 5.6541896 | K25: 2.9405344
B27: * Commercial banks are required to comply with the limits by coefficients calculated according to NBG's methodology. The numbers calculated within Basel framework are given for illustratory purposes.

Sheet 15. CCR
A1: Bank: | B1: =Info!C2 -> Terabank
A2: Date: | B2: ='1. key ratios'!B2 -> 46295
B4: Table 15 Counterparty credit risk weighted risk exposures
B5: Derivative contracts | C5: Nominal Amount | D5: Current Market Value (CMV) | E5: Collateral Value | F5: Replacement Cost (RC) | G5: Potential Future Exposure (PFE) | H5: Supervisory Alfa Factor (α) | I5: Exposure at Default | J5: 0.02 | K5: 0.2 | L5: 0.35 | M5: 0.5 | N5: 0.75 | O5: 1 | P5: 1.5 | Q5: Counterparty Credit Risk Weighted Risk Exposures
C6: 49364896 | D6: 561630.83 | E6: FALSE | F6: 644657.73 | G6: 1661983.8 | H6: 0 | I6: 3229298.2 | J6: FALSE | K6: FALSE | L6: FALSE | M6: 3229298.2 | N6: FALSE | O6: FALSE | P6: FALSE | Q6: 1614649.1
B7: Calculated under Standardised Method | C7: 0 | D7: 0 | E7: 0 | F7: 0 | G7: 0 | H7: 1.4 | I7: 0 | J7: 0 | K7: 0 | L7: 0 | M7: 0 | N7: 0 | O7: 0 | P7: 0 | Q7: 0
B8: Calculated under Simplified Standardised Method | C8: 0 | D8: 0 | E8: 0 | F8: 0 | G8: 0 | H8: 1.4 | I8: 0 | J8: 0 | K8: 0 | L8: 0 | M8: 0 | N8: 0 | O8: 0 | P8: 0 | Q8: 0
B9: Calculated under Original Risk Exposure Method | C9: 49364896 | D9: 561630.83 | E9: 0 | F9: 644657.73 | G9: 1661983.8 | H9: 1.4 | I9: 3229298.2 | J9: 0 | K9: 0 | L9: 0 | M9: 3229298.2 | N9: 0 | O9: 0 | P9: 0 | Q9: 1614649.1
B10: Contracts with Qualified Central Counterparty | C10: 0 | D10: 0 | E10: 0 | F10: 0 | G10: 0 | H10: 1.4 | I10: 0 | J10: 0 | K10: 0 | L10: 0 | M10: 0 | N10: 0 | O10: 0 | P10: 0 | Q10: 0
B11: Calculated under Standardised Method | C11: 0 | D11: 0 | E11: 0 | F11: 0 | G11: 0 | H11: 1.4 | I11: 0 | J11: 0 | K11: 0 | L11: 0 | M11: 0 | N11: 0 | O11: 0 | P11: 0 | Q11: 0
B12: Calculated under Simplified Standardised Method | C12: 0 | D12: 0 | E12: 0 | F12: 0 | G12: 0 | H12: 1.4 | I12: 0 | J12: 0 | K12: 0 | L12: 0 | M12: 0 | N12: 0 | O12: 0 | P12: 0 | Q12: 0
B13: Calculated under Original Risk Exposure Method | C13: 0 | D13: 0 | E13: 0 | F13: 0 | G13: 0 | H13: 1.4 | I13: 0 | J13: 0 | K13: 0 | L13: 0 | M13: 0 | N13: 0 | O13: 0 | P13: 0 | Q13: 0
B14: Contracts with Central Counterparty | C14: 0 | D14: 0 | E14: 0 | F14: 0 | G14: 0 | H14: 1.4 | I14: 0 | J14: 0 | K14: 0 | L14: 0 | M14: 0 | N14: 0 | O14: 0 | P14: 0 | Q14: 0
B15: Calculated under Standardised Method | C15: 0 | D15: 0 | E15: 0 | F15: 0 | G15: 0 | H15: 1.4 | I15: 0 | J15: 0 | K15: 0 | L15: 0 | M15: 0 | N15: 0 | O15: 0 | P15: 0 | Q15: 0
B16: Calculated under Simplified Standardised Method | C16: 0 | D16: 0 | E16: 0 | F16: 0 | G16: 0 | H16: 1.4 | I16: 0 | J16: 0 | K16: 0 | L16: 0 | M16: 0 | N16: 0 | O16: 0 | P16: 0 | Q16: 0
B17: Calculated under Original Risk Exposure Method | C17: 0 | D17: 0 | E17: 0 | F17: 0 | G17: 0 | H17: 1.4 | I17: 0 | J17: 0 | K17: 0 | L17: 0 | M17: 0 | N17: 0 | O17: 0 | P17: 0 | Q17: 0
B18: Contract with Commercial Banks | C18: 41549596 | D18: 561630.83 | E18: 0 | F18: 644657.73 | G18: 1661983.8 | H18: 1.4 | I18: 3229298.2 | J18: 0 | K18: 0 | L18: 0 | M18: 3229298.2 | N18: 0 | O18: 0 | P18: 0 | Q18: 1614649.1
... B33: Calculated under Original Risk Exposure Method | C33: 0 | D33: 0 | E33: 0 | F33: 0 | G33: 0 | H33: 1.4 | I33: 0 | J33: 0 | K33: 0 | L33: 0 | M33: 0 | N33: 0 | O33: 0 | P33: 0 | Q33: 0
B34: Total | C34: 49364896 | D34: 561630.83 | E34: FALSE | F34: 644657.73 | G34: 1661983.8 | H34: 1.4 | I34: 3229298.2 | J34: FALSE | K34: FALSE | L34: FALSE | M34: 3229298.2 | N34: FALSE | O34: FALSE | P34: FALSE | Q34: 1614649.1

Sheet 15.1 LR
A1: Bank: | B1: =Info!C2 -> Terabank
A2: Date: | B2: ='1. key ratios'!B2 -> 46295
A4: Table 15.1 | B4: Leverage Ratio
A5: On-balance sheet exposures (excluding derivatives and SFTs)
A6: 1 | B6: On-balance sheet items (excluding derivatives, SFTs and fiduciary assets, but including collateral) | C6: 2.2300758e+09
A7: 2 | B7: (Asset amounts deducted in determining Tier 1 capital) | C7: -42406952
A8: 3 | B8: Total on-balance sheet exposures (excluding derivatives, SFTs and fiduciary assets) (sum of lines 1 and 2) | C8: =C6+C7 -> 2.1876688e+09
A9: Derivative exposures
A10: 4 | B10: Replacement cost associated with all derivatives transactions | C10: ='15. CCR'!F34 -> 644657.73
A11: 5 | B11: Potential Future Exposure associated with all derivatives transactions | C11: ='15. CCR'!G34 -> 1661983.8
A12: 6 | B12: Risk positions defined by the Counterparty Credit Risk Regulation | C12: ='15. CCR'!I34 -> 3229298.2
A13: 7 | B13: Value of collateral received in exchange for derivative instruments | C13: ='15. CCR'!E34 -> FALSE
A14: 8 | B14: Total derivative exposures (sum of lines 4 to 10) | C14: =C12 -> 3229298.2
A15: Securities financing transaction exposures
A16: 9 | B16: Gross SFT assets (with no recognition of netting), after adjusting for sales accounting transactions | C16: 0
A17: 10 | B17: (Netted amounts of cash payables and cash receivables of gross SFT assets) | C17: 0
A18: 11 | B18: Counterparty credit risk exposure for SFT assets | C18: 0
A19: 12 | B19: Derogation for SFTs: Counterparty credit risk exposure in accordance with Article 429b (4) and 222 of Regulation (EU) No 575/2013 | C19: 0
A20: 14 | B20: Agent transaction exposures | C20: 0
A21: 14 | B21: (Exempted CCP leg of client-cleared SFT exposure) | C21: 0
A22: 15 | B22: Total securities financing transaction exposures (sum of lines 12 to 15a) | C22: =SUM(C16:C21) -> 0
A23: Other off-balance sheet exposures
A24: 16 | B24: Off-balance sheet exposures at gross notional amount | C24: 1.3542047e+08
A25: 17 | B25: (Adjustments for conversion to credit equivalent amounts) | C25: -67910573
A26: 18 | B26: Other off-balance sheet exposures (sum of lines 17 to 18) | C26: =C24+C25 -> 67509894
A27: Exempted exposures in accordance with CRR Article 429 (7) and (14) (on and off balance sheet)
A28: 19 | B28: (Exemption of intragroup exposures (solo basis) in accordance with Article 429(7) of Regulation (EU) No 575/2013 (on and off balance sheet)) | C28: 0
A29: 20 | B29: (Exposures exempted in accordance with Article 429 (14) of Regulation (EU) No 575/2013 (on and off balance sheet)) | C29: 0
A30: Capital and total exposures
A31: 21 | B31: Tier 1 capital | C31: ='1. key ratios'!C9 -> 3.4722183e+08
A32: 22 | B32: Total leverage ratio exposures (sum of lines 3, 11, 16, 19, EU-19a and EU-19b) | C32: =C8+C14+C22+C26 -> 2.258408e+09
A33: Leverage ratio
A34: 23 | B34: Leverage ratio | C34: =IFERROR(C31/C32,0) -> 0.15374628
A35: Choice on transitional arrangements and amount of derecognised fiduciary items
A36: EU-23 | B36: Choice on transitional arrangements for the definition of the capital measure | C36: 0
A37: EU-24 | B37: Amount of derecognised fiduciary items in accordance with Article 429(11) of Regulation (EU) NO 575/2013 | C37: 0

Sheet 15.2 CVA
A1: Bank: | B1: =Info!C2 -> Terabank
A2: Date: | B2: ='1. key ratios'!B2 -> 46295
A4: Table 15.2. Counterparty credit risk weighted risk exposures -Credit Valuation Adjustment (CVA)
C5: Risk Exposure Discounted for Credit Valuation Adjustment | D5: Credit Valuation Adjustment Expense | E5: Written-off Credit Valuation Adjustment Expense | F5: Counterparty Credit Risk Credit Valuation Adjustment risk weighted Risk Exposures
B6: Credit Valuation Adjustment | C6: 3692242.6 | D6: 13132.841 | E6: FALSE | F6: 164160.52
B7: Calculated under Standardised Method | C7: 0 | D7: 0 | E7: 0 | F7: 0
B8: Calculated under Simplified Standardised Method | C8: 0 | D8: 0 | E8: 0 | F8: 0
